BEGIN:VCALENDAR
VERSION:2.0
PRODID:-//urwahl3000//gruene-rauenberg.de//DE
CALSCALE:GREGORIAN
BEGIN:VEVENT
DTSTART:20211011T200000
DTEND:20211011T200000
LOCATION: 
DTSTAMP:20211011T200000
SUMMARY:Stammtisch: 11.10.
URL;VALUE=URI:https://www.gruene-rauenberg.de/termin/stammtisch-11-10/
DESCRIPTION:Hallo liebe Unterstützer:innen der Grünen in Rauenberg,

wie jeden Monat laden wir zu einen Stammtisch beim Griechen im Tierpark in Rauenberg ein. Dazu sind alle Interessierten herzlich eingeladen!
UID:20211011T200000-20211011T200000-20211011T200000
END:VEVENT
END:VCALENDAR